BEGIN:VCALENDAR
VERSION:2.0
PRODID:-//Sonoris Vokalensemble - ECPv6.15.20//NONSGML v1.0//EN
CALSCALE:GREGORIAN
METHOD:PUBLISH
X-ORIGINAL-URL:https://sonorisvokalensemble.de
X-WR-CALDESC:Veranstaltungen für Sonoris Vokalensemble
REFRESH-INTERVAL;VALUE=DURATION:PT1H
X-Robots-Tag:noindex
X-PUBLISHED-TTL:PT1H
BEGIN:VTIMEZONE
TZID:Europe/Berlin
BEGIN:DAYLIGHT
TZOFFSETFROM:+0100
TZOFFSETTO:+0200
TZNAME:CEST
DTSTART:20250330T010000
END:DAYLIGHT
BEGIN:STANDARD
TZOFFSETFROM:+0200
TZOFFSETTO:+0100
TZNAME:CET
DTSTART:20251026T010000
END:STANDARD
BEGIN:DAYLIGHT
TZOFFSETFROM:+0100
TZOFFSETTO:+0200
TZNAME:CEST
DTSTART:20260329T010000
END:DAYLIGHT
BEGIN:STANDARD
TZOFFSETFROM:+0200
TZOFFSETTO:+0100
TZNAME:CET
DTSTART:20261025T010000
END:STANDARD
BEGIN:DAYLIGHT
TZOFFSETFROM:+0100
TZOFFSETTO:+0200
TZNAME:CEST
DTSTART:20270328T010000
END:DAYLIGHT
BEGIN:STANDARD
TZOFFSETFROM:+0200
TZOFFSETTO:+0100
TZNAME:CET
DTSTART:20271031T010000
END:STANDARD
END:VTIMEZONE
BEGIN:VEVENT
DTSTART;TZID=Europe/Berlin:20260418T180000
DTEND;TZID=Europe/Berlin:20260418T193000
DTSTAMP:20260421T085511
CREATED:20260212T183017Z
LAST-MODIFIED:20260329T200519Z
UID:425-1776535200-1776540600@sonorisvokalensemble.de
SUMMARY:Round me falls the night - Nürnberg
DESCRIPTION:Das Son­o­ris Vokal­ensem­ble nimmt Sie mit auf eine musi­ka­li­sche Rei­se durch die Nacht: Abend­lie­der und Nacht­ge­be­te\, Lie­bes­lie­der\, Traum- und Mond­bil­der machen die Nacht spi­ri­tu­ell\, emo­tio­nal und poe­tisch erfahr­bar. Die Nacht erscheint dabei als geist­li­cher\, emo­tio­na­ler und poe­ti­scher Erfah­rungs­raum – schüt­zend und bedroh­lich zugleich\, erfüllt von Sehn­sucht\, Inti­mi­tät und Stil­le. \nEs erklin­gen unter ande­ren Wer­ke von Rhein­ber­ger\, Her­zo­gen­berg\, Bir­zer\, und Beach. Bei der Pro­gramm­ge­stal­tung wur­de ein beson­de­res Augen­merk dar­auf gelegt Kom­po­nis­tin­nen und Kom­po­nis­ten gleich viel Spiel­zeit ein­zu­räu­men. Die musi­ka­li­sche Lei­tung hat Andre­as Ful­da. \nDer Ein­tritt ist frei — Wir freu­en uns über Ihre Spen­de!
URL:https://sonorisvokalensemble.de/event/nachtklang-konzert-in-der-friedenskirche/
LOCATION:Friedenskirche\, Palmplatz 11\, Nürnberg\, 90419\, Germany
END:VEVENT
END:VCALENDAR